BEGIN:VCALENDAR
VERSION:2.0
PRODID:-//Martinsclub Bremen
CALSCALE:GREGORIAN
METHOD:PUBLISH
X-WR-CALNAME:Martinsclub Bremen
X-ORIGINAL-URL:https://www.martinsclub.de/veranstaltungen/kegeln-ii-2025/
X-WR-CALDESC:Kegeln II
BEGIN:VEVENT
DTSTART;TZID=Europe/Helsinki:20250204T180000
DTEND;TZID=Europe/Helsinki:20251125T193000
SUMMARY:Kegeln II
DESCRIPTION:
URL:https://www.martinsclub.de/veranstaltungen/kegeln-ii-2025/
LOCATION:Hützelstraße 16
END:VEVENT
END:VCALENDAR
