BEGIN:VCALENDAR
VERSION:2.0
PRODID:-//Martinsclub Bremen
CALSCALE:GREGORIAN
METHOD:PUBLISH
X-WR-CALNAME:Martinsclub Bremen
X-ORIGINAL-URL:https://www.martinsclub.de/veranstaltungen/karaoke-marie-2025/
X-WR-CALDESC:Karaoke: Marie singt in Huckelriede
BEGIN:VEVENT
DTSTART;TZID=Europe/Helsinki:20250204T170000
DTEND;TZID=Europe/Helsinki:20251125T203000
SUMMARY:Karaoke: Marie singt in Huckelriede
DESCRIPTION:
URL:https://www.martinsclub.de/veranstaltungen/karaoke-marie-2025/
LOCATION:Quartierszentrum Huckelriede, Niedersachsendamm 20 a
END:VEVENT
END:VCALENDAR
