BEGIN:VCALENDAR
VERSION:2.0
PRODID:-//Martinsclub Bremen
CALSCALE:GREGORIAN
METHOD:PUBLISH
X-WR-CALNAME:Martinsclub Bremen
X-ORIGINAL-URL:https://www.martinsclub.de/veranstaltungen/cuxhaven-sahlenburg-2025/
X-WR-CALDESC:Cuxhaven-Sahlenburg &#8211; Nordsee-Heilbad
BEGIN:VEVENT
DTSTART;TZID=Europe/Helsinki:20250707T000000
DTEND;TZID=Europe/Helsinki:20250711T000000
SUMMARY:Cuxhaven-Sahlenburg – Nordsee-Heilbad
DESCRIPTION:
URL:https://www.martinsclub.de/veranstaltungen/cuxhaven-sahlenburg-2025/
LOCATION:Haus Stella Maris, Oskar-von-Brock-Straße 16, 27476 Cuxhaven
END:VEVENT
END:VCALENDAR
