BEGIN:VCALENDAR
VERSION:2.0
PRODID:-//Martinsclub Bremen
CALSCALE:GREGORIAN
METHOD:PUBLISH
X-WR-CALNAME:Martinsclub Bremen
X-ORIGINAL-URL:https://www.martinsclub.de/veranstaltungen/freimarktsumzug/
X-WR-CALDESC:Freimarktsumzug
BEGIN:VEVENT
DTSTART;TZID=Europe/Helsinki:20251008T080000
DTEND;TZID=Europe/Helsinki:20251025T170000
SUMMARY:Freimarktsumzug
DESCRIPTION:
URL:https://www.martinsclub.de/veranstaltungen/freimarktsumzug/
LOCATION:
END:VEVENT
END:VCALENDAR
