BEGIN:VCALENDAR
VERSION:2.0
PRODID:-//Martinsclub Bremen
CALSCALE:GREGORIAN
METHOD:PUBLISH
X-WR-CALNAME:Martinsclub Bremen
X-ORIGINAL-URL:https://www.martinsclub.de/veranstaltungen/osterwiese-2026/
X-WR-CALDESC:Stadtfest: Bremer Osterwiese
BEGIN:VEVENT
DTSTART;TZID=Europe/Helsinki:20260402T153000
DTEND;TZID=Europe/Helsinki:20260402T000000
SUMMARY:Stadtfest: Bremer Osterwiese
DESCRIPTION:
URL:https://www.martinsclub.de/veranstaltungen/osterwiese-2026/
LOCATION:m|Centrum, Buntentorsteinweg 24/26
END:VEVENT
END:VCALENDAR
