BEGIN:VCALENDAR
VERSION:2.0
PRODID:-//Martinsclub Bremen
CALSCALE:GREGORIAN
METHOD:PUBLISH
X-WR-CALNAME:Martinsclub Bremen
X-ORIGINAL-URL:https://www.martinsclub.de/veranstaltungen/filmfest-bremen-2026/
X-WR-CALDESC:Kino: Filmfest Bremen 2026
BEGIN:VEVENT
DTSTART;TZID=Europe/Helsinki:20260418T000000
DTEND;TZID=Europe/Helsinki:20260418T000000
SUMMARY:Kino: Filmfest Bremen 2026
DESCRIPTION:
URL:https://www.martinsclub.de/veranstaltungen/filmfest-bremen-2026/
LOCATION:m|Centrum, Buntentorsteinweg 24/26
END:VEVENT
END:VCALENDAR
