BEGIN:VCALENDAR
VERSION:2.0
PRODID:-//Martinsclub Bremen
CALSCALE:GREGORIAN
METHOD:PUBLISH
X-WR-CALNAME:Martinsclub Bremen
X-ORIGINAL-URL:https://www.martinsclub.de/veranstaltungen/disco-marie-tanzt-in-huckelriede-2026/
X-WR-CALDESC:Disco: Marie tanzt in Huckelriede
BEGIN:VEVENT
DTSTART;TZID=Europe/Helsinki:20260127T170000
DTEND;TZID=Europe/Helsinki:20261201T203000
SUMMARY:Disco: Marie tanzt in Huckelriede
DESCRIPTION:
URL:https://www.martinsclub.de/veranstaltungen/disco-marie-tanzt-in-huckelriede-2026/
LOCATION:Quartierszentrum Huckelriede, Niedersachsendamm 20 a
END:VEVENT
END:VCALENDAR
