BEGIN:VCALENDAR
VERSION:2.0
PRODID:-//Martinsclub Bremen
CALSCALE:GREGORIAN
METHOD:PUBLISH
X-WR-CALNAME:Martinsclub Bremen
X-ORIGINAL-URL:https://www.martinsclub.de/veranstaltungen/snack-und-schau-2026/
X-WR-CALDESC:snack und schau
BEGIN:VEVENT
DTSTART;TZID=Europe/Helsinki:20260220T163000
DTEND;TZID=Europe/Helsinki:20261120T203000
SUMMARY:snack und schau
DESCRIPTION:
URL:https://www.martinsclub.de/veranstaltungen/snack-und-schau-2026/
LOCATION:m|c Tagespflege, Wilseder-Berg-Str. 2b
END:VEVENT
END:VCALENDAR
