BEGIN:VCALENDAR
VERSION:2.0
PRODID:-//Martinsclub Bremen
CALSCALE:GREGORIAN
METHOD:PUBLISH
X-WR-CALNAME:Martinsclub Bremen
X-ORIGINAL-URL:https://www.martinsclub.de/veranstaltungen/langeoog-sept-2026/
X-WR-CALDESC:Insel Langeoog in der Nordsee
BEGIN:VEVENT
DTSTART;TZID=Europe/Helsinki:20260928T000000
DTEND;TZID=Europe/Helsinki:20261004T000000
SUMMARY:Insel Langeoog in der Nordsee
DESCRIPTION:
URL:https://www.martinsclub.de/veranstaltungen/langeoog-sept-2026/
LOCATION:Haus Meedland, Gartenstraße 3, 26465 Langeoog
END:VEVENT
END:VCALENDAR
