BEGIN:VCALENDAR
VERSION:2.0
PRODID:-//Martinsclub Bremen
CALSCALE:GREGORIAN
METHOD:PUBLISH
X-WR-CALNAME:Martinsclub Bremen
X-ORIGINAL-URL:https://www.martinsclub.de/veranstaltungen/tanztee-karneval-2026/
X-WR-CALDESC:Tanztee (Motto: Karneval)
BEGIN:VEVENT
DTSTART;TZID=Europe/Helsinki:20260211T150000
DTEND;TZID=Europe/Helsinki:20260211T170000
SUMMARY:Tanztee (Motto: Karneval)
DESCRIPTION:
URL:https://www.martinsclub.de/veranstaltungen/tanztee-karneval-2026/
LOCATION:AWO, Haus Reuterstraße, Reuterstraße 23 - 27
END:VEVENT
END:VCALENDAR
