BEGIN:VCALENDAR
VERSION:2.0
PRODID:-//Martinsclub Bremen
CALSCALE:GREGORIAN
METHOD:PUBLISH
X-WR-CALNAME:Martinsclub Bremen
X-ORIGINAL-URL:https://www.martinsclub.de/veranstaltungen/natur-durch-die-linse-2026/
X-WR-CALDESC:Entdecke die Natur durch die Linse!
BEGIN:VEVENT
DTSTART;TZID=Europe/Helsinki:20260131T110000
DTEND;TZID=Europe/Helsinki:20260328T140000
SUMMARY:Entdecke die Natur durch die Linse!
DESCRIPTION:
URL:https://www.martinsclub.de/veranstaltungen/natur-durch-die-linse-2026/
LOCATION:Kirchengemeinde Syke, Kirchstraße 3, 28857 Syke
END:VEVENT
END:VCALENDAR
