BEGIN:VCALENDAR
VERSION:2.0
PRODID:-//Martinsclub Bremen
CALSCALE:GREGORIAN
METHOD:PUBLISH
X-WR-CALNAME:Martinsclub Bremen
X-ORIGINAL-URL:https://www.martinsclub.de/veranstaltungen/treffpunkt-herz-horn/
X-WR-CALDESC:Treffpunkt Herz &#8211; Horn
BEGIN:VEVENT
DTSTART;TZID=Europe/Helsinki:20260413T173000
DTEND;TZID=Europe/Helsinki:20261221T193000
SUMMARY:Treffpunkt Herz – Horn
DESCRIPTION:
URL:https://www.martinsclub.de/veranstaltungen/treffpunkt-herz-horn/
LOCATION:Evangelische Andreas-Gemeinde, Werner-von-Siemens-Straße 55, 28357 Bremen
END:VEVENT
END:VCALENDAR
