BEGIN:VCALENDAR
VERSION:2.0
PRODID:-//Martinsclub Bremen
CALSCALE:GREGORIAN
METHOD:PUBLISH
X-WR-CALNAME:Martinsclub Bremen
X-ORIGINAL-URL:https://www.martinsclub.de/veranstaltungen/treffpunkt-herz-neustadt/
X-WR-CALDESC:Treffpunkt Herz &#8211; Neustadt
BEGIN:VEVENT
DTSTART;TZID=Europe/Helsinki:20260408T173000
DTEND;TZID=Europe/Helsinki:20261216T193000
SUMMARY:Treffpunkt Herz – Neustadt
DESCRIPTION:
URL:https://www.martinsclub.de/veranstaltungen/treffpunkt-herz-neustadt/
LOCATION:Neustadt Stadtteilmanagement e. V.,  Alte Post,  Meyerstraße 38/40,  28201 Bremen
END:VEVENT
END:VCALENDAR
